BEGIN:VCALENDAR
VERSION:2.0
PRODID:-//eventon.com NONSGML v1.0//EN
BEGIN:VEVENT
UID:69e6b6113e78c
DTSTAMP:20260421T012609
DTSTART:20210706T180000Z
DTEND:20210908T220000Z
LOCATION:
SUMMARY:Estate a Moliterno 2021
DESCRIPTION: Continua l'estate Moliternese\,  che torna ad arricchirsi di eventi grazie all'impegno di Comune di Moliterno e di tutte le associazioni del territorio. Un nuovo calendario ricco di eventi culturali\,  che torna a far battere il cuore della valle. Nei prossimi giorni e settimane\,  scopriremo più da vicino i dettagli degli[..]
END:VEVENT
END:VCALENDAR