BEGIN:VCALENDAR
VERSION:2.0
PRODID:-//eventon.com NONSGML v1.0//EN
BEGIN:VEVENT
UID:69e528c01089c
DTSTAMP:20260419T211056
DTSTART:20210805T180000Z
DTEND:20210805T210000Z
LOCATION:
SUMMARY:A Viggiano "Un uomo in trincea - La forza del Tricolore"
DESCRIPTION: Segnalare un bell'appuntamento culturale a Viggiano\,  il prossimo 5 agosto. Comune di Viggiano\,  Associazione Supertramp e Cooperativa sociale ConCrea organizzano la presentazione del libro Uɴ ᴜᴏᴍᴏ ɪɴ ᴛʀɪɴᴄᴇᴀ - Lᴀ ꜰᴏʀᴢᴀ ᴅᴇʟ Tʀɪᴄᴏʟᴏʀᴇ di Salvatore Cosma\,  sindaco di Comune di Tursi. Il libro contiene la prefazione di Aurelio Pace.  [..]
END:VEVENT
END:VCALENDAR