BEGIN:VCALENDAR
VERSION:2.0
PRODID:-//eventon.com NONSGML v1.0//EN
BEGIN:VEVENT
UID:69e8ab5087540
DTSTAMP:20260422T130448
DTSTART:20210901T220000Z
DTEND:20210912T210000Z
LOCATION:
SUMMARY:Festa Regionale della Madonna del Sacro Monte di Viggiano
DESCRIPTION: È disponibile il programma delle celebrazioni religiose per la Festa Regionale della Madonna del Sacro Monte di Viggiano\,  Regina e Patrona della Lucania. Le celebrazioni avranno inizio giovedì 2 settembre\,  per culminare domenica 5 settembre con la processione della Sacra Effige verso Piazza Papa Giovanni XXIII. Tra gli appuntamenti importanti[..]
END:VEVENT
END:VCALENDAR