BEGIN:VCALENDAR
VERSION:2.0
PRODID:-//eventon.com NONSGML v1.0//EN
BEGIN:VEVENT
UID:69e5c535beebc
DTSTAMP:20260420T081829
DTSTART:20211119T160000Z
DTEND:20211119T190000Z
LOCATION:
SUMMARY:La coltivazione del Bambù Gigante
DESCRIPTION: Eco-Investimenti in bambù gigante per un’Agricoltura sostenibile: é questa una delle opportunità per il futuro degli agricoltori. A Marsicovetere l’amministrazione comunale organizza un incontro per parlare di questo tema con gli esperti del settore. Ecco le coordinate dell’incontro 📅 venerdì 19 novembre 📍 Centro sociale di Villa d’Agri 🕕 a[..]
END:VEVENT
END:VCALENDAR