BEGIN:VCALENDAR
VERSION:2.0
PRODID:-//eventon.com NONSGML v1.0//EN
BEGIN:VEVENT
UID:69eafd33b1ad0
DTSTAMP:20260424T071843
DTSTART:20211119T220000Z
DTEND:20211121T215900Z
LOCATION:
SUMMARY:Un weekend con il Ferricello Viggianese
DESCRIPTION: Il Ferricello Viggianese\,  a marchio DE.CO. e PAT\,  sarà il protagonista del weekend del 20 e 21 novembre in un evento organizzato dal Consorzio Turistico Alta Val D'Agri. L’evento è dedicato a  tutti coloro sceglieranno di trascorrere quelle giornate in Val d'Agri Tra degustazioni e laboratori manuali sul ferricello\,  un'escursione[..]
END:VEVENT
END:VCALENDAR