BEGIN:VCALENDAR
VERSION:2.0
PRODID:-//eventon.com NONSGML v1.0//EN
BEGIN:VEVENT
UID:69e7eb57377c3
DTSTAMP:20260421T232543
DTSTART:20220501T070000Z
DTEND:20220501T170000Z
LOCATION:
SUMMARY:Domenica gratuita al museo
DESCRIPTION: Domenica primo maggio torna l'appuntamento con le domeniche gratuite al museo\,  che prevede il libero ingresso a tutti i luoghi della cultura statali d’Italia la prima domenica del mese. Operatori e guide sono pronti ad accoglierci presso i nostri musei e parchi archeologici di Basilicata: approfitta per visitare il Museo[..]
END:VEVENT
END:VCALENDAR