BEGIN:VCALENDAR
VERSION:2.0
PRODID:-//eventon.com NONSGML v1.0//EN
BEGIN:VEVENT
UID:69ec06f996ad1
DTSTAMP:20260425T021241
DTSTART:20220717T220000Z
DTEND:20220829T215900Z
LOCATION:
SUMMARY:Estate Saponarese 2022
DESCRIPTION: Anche a Grumento Nova l’estate entra nel vivo! Associazioni e amministrazione comunale sono unite per far vivere a concittadini e turisti giornate speciali all’insegna di sport\,  natura\,  musica\,  cultura\,  divertimento con un occhio sempre attento alle tradizioni. Nel corso dei prossimi “articoli” avremo modo di conoscere\,  come facciamo sempre\,  i[..]
END:VEVENT
END:VCALENDAR