BEGIN:VCALENDAR
VERSION:2.0
PRODID:-//eventon.com NONSGML v1.0//EN
BEGIN:VEVENT
UID:69ebf35c51206
DTSTAMP:20260425T004900
DTSTART:20220728T193000Z
DTEND:20220814T215900Z
LOCATION:
SUMMARY:SARCONI MUSIC FEST
DESCRIPTION: La musica è grande protagonista nei calendari eventi della nostra estate lucana\,  e Sarconi anche quest’anno non manca all’appello In arrivo tra pochi giorni la seconda edizione della rassegna SARCONI MUSIC FEST 🎸 📆 dal 28 luglio al 14 agosto 📍Piazza Salvo D'Acquisto\,  Sarconi 🕤 start 21.30 Ecco i protagonisti[..]
END:VEVENT
END:VCALENDAR