BEGIN:VCALENDAR
VERSION:2.0
PRODID:-//eventon.com NONSGML v1.0//EN
BEGIN:VEVENT
UID:69ed1e0ee1af5
DTSTAMP:20260425T220326
DTSTART:20220809T190000Z
DTEND:20220809T215900Z
LOCATION:
SUMMARY:Le Muse di Sinisgalli nell’orto di Merola
DESCRIPTION: Quarto appuntamento a Montemurro con Fondazione Leonardo Sinisgalli nell’ambito della rassegna  “Le Muse di Sinisgalli nell’Orto di Merola”. Oggi parliamo di Teatro 📆 martedì 9 agosto 📍Piazza Giacinto Albini 🕘 ore 21.00 🎭 spettacolo teatrale CIN CIN Appuntamento con il teatro\,  in un originale incontro con il vino e la[..]
END:VEVENT
END:VCALENDAR