BEGIN:VCALENDAR
VERSION:2.0
PRODID:-//eventon.com NONSGML v1.0//EN
BEGIN:VEVENT
UID:69e8a631bc136
DTSTAMP:20260422T124257
DTSTART:20220806T190000Z
DTEND:20220806T215900Z
LOCATION:
SUMMARY:Le Muse di Sinisgalli nell’orto di Merola
DESCRIPTION: Terzo appuntamento a Montemurro con Fondazione Leonardo Sinisgalli nell’ambito della rassegna “Le Muse di Sinisgalli nell’Orto di Merola”. Segna l’evento! 📆 sabato 6 agosto 📍Piazza Giacinto Albini 🕘 ore 21.00 📖 Presentazione del romanzo “NERO LUCANO” di Piera Carlomagno (Solferino\,  2021) Una serata nel segno del giallo\,  che vedrà la[..]
END:VEVENT
END:VCALENDAR