BEGIN:VCALENDAR
VERSION:2.0
PRODID:-//eventon.com NONSGML v1.0//EN
BEGIN:VEVENT
UID:69e9eed09c299
DTSTAMP:20260423T120504
DTSTART:20220818T190000Z
DTEND:20220818T215900Z
LOCATION:
SUMMARY:Enzo Avitabile in concerto a Marsico Nuovo
DESCRIPTION: ENZO AVITABILE 18 AGOSTO TERAZZA DELLA CATTEDRALE ORE 21.00
END:VEVENT
END:VCALENDAR