BEGIN:VCALENDAR
VERSION:2.0
PRODID:-//eventon.com NONSGML v1.0//EN
BEGIN:VEVENT
UID:69e882566b10a
DTSTAMP:20260422T100958
DTSTART:20240430T170000Z
DTEND:20240430T210000Z
LOCATION:
SUMMARY:Festa della birra a Montemurro
DESCRIPTION: &nbsp;
END:VEVENT
END:VCALENDAR