BEGIN:VCALENDAR
VERSION:2.0
PRODID:-//eventon.com NONSGML v1.0//EN
BEGIN:VEVENT
UID:69e6beead8098
DTSTAMP:20260421T020354
DTSTART:20240408T220000Z
DTEND:20240410T215900Z
LOCATION:
SUMMARY:Corso di formazione professionale per potatura olivo a Viggiano
DESCRIPTION: 
END:VEVENT
END:VCALENDAR