BEGIN:VCALENDAR
VERSION:2.0
PRODID:-//eventon.com NONSGML v1.0//EN
BEGIN:VEVENT
UID:69e9f9b57ffb9
DTSTAMP:20260423T125133
DTSTART:20240425T220000Z
DTEND:20240506T215900Z
LOCATION:
SUMMARY:Programma Festeggiamenti di maggio della Madonna Nera di Viggiano
DESCRIPTION: 
END:VEVENT
END:VCALENDAR