BEGIN:VCALENDAR
VERSION:2.0
PRODID:-//eventon.com NONSGML v1.0//EN
BEGIN:VEVENT
UID:69e9067890c4a
DTSTAMP:20260422T193344
DTSTART:20240622T220000Z
DTEND:20240623T215900Z
LOCATION:
SUMMARY:la I Edizione di “CORRI\,  CAMMINA E PEDALA” a Fontana delle Brecce
DESCRIPTION: Domenica 23 Giugno 2024 la Podistica Potenza\,  il CAI Potenza e il FIAB Potenza ciclOstile organizzano la I Edizione di “CORRI\,  CAMMINA E PEDALA” a Fontana delle Brecce -rifugio incantevole immerso in un bosco incontaminato situato a circa 1.300 metri di altitudine in località Marsico Nuovo (PZ). Sarà una giornata[..]
END:VEVENT
END:VCALENDAR