BEGIN:VCALENDAR
VERSION:2.0
PRODID:-//eventon.com NONSGML v1.0//EN
BEGIN:VEVENT
UID:69ec37d914bee
DTSTAMP:20260425T054113
DTSTART:20240711T220000Z
DTEND:20240714T215900Z
LOCATION:
SUMMARY:I sapori della Tradizione a Paterno
DESCRIPTION: 
END:VEVENT
END:VCALENDAR