BEGIN:VCALENDAR
VERSION:2.0
PRODID:-//eventon.com NONSGML v1.0//EN
BEGIN:VEVENT
UID:69e8edd757f82
DTSTAMP:20260422T174839
DTSTART:20240815T220000Z
DTEND:20240901T215900Z
LOCATION:
SUMMARY:Festeggiamenti in onore della Madonna di Monserrato a Grumento Nova
DESCRIPTION: 
END:VEVENT
END:VCALENDAR