BEGIN:VCALENDAR
VERSION:2.0
PRODID:-//eventon.com NONSGML v1.0//EN
BEGIN:VEVENT
UID:69e670f3b6872
DTSTAMP:20260420T203115
DTSTART:20240906T220000Z
DTEND:20240908T215900Z
LOCATION:
SUMMARY:festeggiamenti per il S.s. Crocifisso a Galaino di Marsico Nuovo
DESCRIPTION: Si rinnovano come ogni anno i festeggiamenti per il S.s. Crocifisso Nella c.da di Galaino A Marsico Nuovo Qui di seguito il programma sia Civile che Religioso Questo fine settimana Galaino si riunisce per i solenni Festeggiamenti del 𝗦𝗦. 𝗖𝗿𝗼𝗰𝗶𝗳𝗶𝘀𝘀𝗼.. 𝗦𝗮𝗯𝗮𝘁𝗼 𝟳 𝗦𝗲𝘁𝘁𝗲𝗺𝗯𝗿𝗲 La giornata comincia con la tradizionale fiera[..]
END:VEVENT
END:VCALENDAR