BEGIN:VCALENDAR
VERSION:2.0
PRODID:-//eventon.com NONSGML v1.0//EN
BEGIN:VEVENT
UID:69ea7bf62b579
DTSTAMP:20260423T220718
DTSTART:20190309T081800Z
DTEND:20190310T081800Z
LOCATION:Sala del Centro Caritas 85059 Viggiano
SUMMARY:Masterclass di Recitazione Scenica a Viggiano con Mario Pirovano e Jacopo Fo
DESCRIPTION: 9 marzo e 10 marzo / ore:10.00-13.00 - 15.00-18.00 Rivolta ad appassionati\,  attori amatoriali e non. Verrà affrontato l’argomento “teatro” sotto vari punti di vista: dallo spettacolo\,  al gioco\,  agli aspetti fondamentali della scrittura e della rappresentazione di un testo teatrale. Per 2 giorni si parlerà di teatro e arte\, [..]
END:VEVENT
END:VCALENDAR